BEGIN:VCALENDAR
VERSION:2.0
PRODID:-//LA VIE Country Club - ECPv6.15.18//NONSGML v1.0//EN
CALSCALE:GREGORIAN
METHOD:PUBLISH
X-WR-CALNAME:LA VIE Country Club
X-ORIGINAL-URL:https://www.club.lavie.om
X-WR-CALDESC:Events for LA VIE Country Club
REFRESH-INTERVAL;VALUE=DURATION:PT1H
X-Robots-Tag:noindex
X-PUBLISHED-TTL:PT1H
BEGIN:VTIMEZONE
TZID:Asia/Muscat
BEGIN:STANDARD
TZOFFSETFROM:+0400
TZOFFSETTO:+0400
TZNAME:+04
DTSTART:20220101T000000
END:STANDARD
END:VTIMEZONE
BEGIN:VEVENT
DTSTART;TZID=Asia/Muscat:20231129T153000
DTEND;TZID=Asia/Muscat:20231129T180000
DTSTAMP:20260419T221253
CREATED:20231102T103236Z
LAST-MODIFIED:20231102T105805Z
UID:10000997-1701271800-1701280800@www.club.lavie.om
SUMMARY:LA VIE LADIES
DESCRIPTION:9 Holes from Copper Tees starts from 15:30\n\nDates: November 8\, 15\, 23 and 29\, 2023\nPrice: \nOMR 5 Access Holders\nOMR 15 Non-Access Holders\nInclusive of two beverages. \n*Terms and conditions apply. Rates are inclusive of government taxes. \nFor inquiries\, please email mohammed.alalawi@lavie.om or call +968 2214 0000. \n \nPlease enable JavaScript in your browser to complete this form.Name *FirstLastEmail *Phone *Message *SUBMIT
URL:https://www.club.lavie.om/event/la-vie-ladies-golf-event-3-2/
LOCATION:LA VIE Club\, Airport Heights\, Muscat City\, Oman\, 111\, Oman
CATEGORIES:Golf Events
ATTACH;FMTTYPE=image/jpeg:https://www.club.lavie.om/wp-content/uploads/sites/9071/2023/11/la-vie-ladies-eblast.jpg
END:VEVENT
BEGIN:VEVENT
DTSTART;TZID=Asia/Muscat:20231125T160000
DTEND;TZID=Asia/Muscat:20231125T210000
DTSTAMP:20260419T221253
CREATED:20230918T121512Z
LAST-MODIFIED:20231004T060948Z
UID:10000914-1700928000-1700946000@www.club.lavie.om
SUMMARY:FOOTGOLF
DESCRIPTION:Looking for a fun and affordable family activity? Look no further than LA VIE Club’s Footgolf. This event offers a great opportunity to bond with your loved ones while enjoying the beautiful surroundings of LA VIE Club. \nDates: Alternating Saturday of the Month\nTime: From 4:00 PM to closing\nPrice: OMR 2 per player (Playable for a maximum of 4 players) \nBOOK ONLINE \n\n	\n		\n	\n	\n	\n	\n		foot_golf_video-mp4
URL:https://www.club.lavie.om/event/footgolf-2/2023-11-25/
LOCATION:LA VIE Club\, Airport Heights\, Muscat City\, Oman\, 111\, Oman
CATEGORIES:Events
ATTACH;FMTTYPE=image/jpeg:https://www.club.lavie.om/wp-content/uploads/sites/9071/2023/09/GolfPlex-Footgolf-header.jpg
END:VEVENT
BEGIN:VEVENT
DTSTART;TZID=Asia/Muscat:20231125T130000
DTEND;TZID=Asia/Muscat:20231125T200000
DTSTAMP:20260419T221253
CREATED:20231102T100624Z
LAST-MODIFIED:20231102T100750Z
UID:10000938-1700917200-1700942400@www.club.lavie.om
SUMMARY:MOVEMBER MEDAL
DESCRIPTION:Best Moustache Competition! \nFormat: Individual Strokeplay\nDate: Saturday\, 25th November 2023\nTime: 1:00 PM Shotgun Start \nPrice:\nOMR 22 Access Holders\nOMR 35 Non-Access Holders \nInclusive of selected beverages\, BBQ\, and Live entertainment\n\n*Terms and conditions apply. Rates are exclusive of government taxes. \nFor enquiries\, please email mohammed.alalawi@lavie.om or click the link below to register.
URL:https://www.club.lavie.om/event/movember-medal/
LOCATION:LA VIE Club\, Airport Heights\, Muscat City\, Oman\, 111\, Oman
CATEGORIES:Golf Events
ATTACH;FMTTYPE=image/jpeg:https://www.club.lavie.om/wp-content/uploads/sites/9071/2023/11/movember-medal-EBLAST.jpg
END:VEVENT
BEGIN:VEVENT
DTSTART;TZID=Asia/Muscat:20231123T153000
DTEND;TZID=Asia/Muscat:20231123T180000
DTSTAMP:20260419T221253
CREATED:20231102T103448Z
LAST-MODIFIED:20231102T105853Z
UID:10000995-1700753400-1700762400@www.club.lavie.om
SUMMARY:LA VIE LADIES
DESCRIPTION:9 Holes from Copper Tees starts from 15:30\n\nDates: November 8\, 15\, 23 and 29\, 2023\nPrice: \nOMR 5 Access Holders\nOMR 15 Non-Access Holders\nInclusive of two beverages. \n*Terms and conditions apply. Rates are inclusive of government taxes. \nFor inquiries\, please email mohammed.alalawi@lavie.om or call +968 2214 0000. \n \nPlease enable JavaScript in your browser to complete this form.Name *FirstLastEmail *Phone *Message *SUBMIT
URL:https://www.club.lavie.om/event/la-vie-ladies-golf-event-2-2/
LOCATION:LA VIE Club\, Airport Heights\, Muscat City\, Oman\, 111\, Oman
CATEGORIES:Golf Events
ATTACH;FMTTYPE=image/jpeg:https://www.club.lavie.om/wp-content/uploads/sites/9071/2023/11/la-vie-ladies-eblast.jpg
END:VEVENT
BEGIN:VEVENT
DTSTART;TZID=Asia/Muscat:20231118T160000
DTEND;TZID=Asia/Muscat:20231118T210000
DTSTAMP:20260419T221253
CREATED:20231003T123700Z
LAST-MODIFIED:20231004T061639Z
UID:10000919-1700323200-1700341200@www.club.lavie.om
SUMMARY:ACADEMY COURSE – PAR 3
DESCRIPTION:Spend your weekend at LA VIE Club Par 3 Course with family and friends! Round up your squad for up to 4 players and swing those clubs amidst stunning surroundings. For just OMR 2 per player\, you can enjoy a round of golf on our Par 3 Course. Affordable and exciting\, it’s the ultimate weekend activity for families and friends alike. Don’t miss out! \nDates: Alternating Saturday of the Month\nTime: 4:00 PM to 9:00 PM\nPrice: OMR 2 per player (Playable for a maximum of 4 players) \nBOOK ONLINE
URL:https://www.club.lavie.om/event/academy-course-par-3-2/2023-11-18/
LOCATION:LA VIE Club\, Airport Heights\, Muscat City\, Oman\, 111\, Oman
CATEGORIES:Events
ATTACH;FMTTYPE=image/jpeg:https://www.club.lavie.om/wp-content/uploads/sites/9071/2023/09/Academy-Course.jpg
END:VEVENT
BEGIN:VEVENT
DTSTART;TZID=Asia/Muscat:20231115T153000
DTEND;TZID=Asia/Muscat:20231115T180000
DTSTAMP:20260419T221253
CREATED:20231102T101752Z
LAST-MODIFIED:20231102T105934Z
UID:10000940-1700062200-1700071200@www.club.lavie.om
SUMMARY:LA VIE LADIES
DESCRIPTION:9 Holes from Copper Tees starts from 15:30\n\nDates: November 8\, 15\, 23 and 29\, 2023\nPrice: \nOMR 5 Access Holders\nOMR 15 Non-Access Holders\nInclusive of two beverages. \n*Terms and conditions apply. Rates are inclusive of government taxes. \nFor inquiries\, please email mohammed.alalawi@lavie.om or call +968 2214 0000. \n \nPlease enable JavaScript in your browser to complete this form.Name *FirstLastEmail *Phone *Message *SUBMIT
URL:https://www.club.lavie.om/event/la-vie-ladies-golf-event/2023-11-15/
LOCATION:LA VIE Club\, Airport Heights\, Muscat City\, Oman\, 111\, Oman
CATEGORIES:Golf Events
ATTACH;FMTTYPE=image/jpeg:https://www.club.lavie.om/wp-content/uploads/sites/9071/2023/11/la-vie-ladies-eblast.jpg
END:VEVENT
BEGIN:VEVENT
DTSTART;TZID=Asia/Muscat:20231111T160000
DTEND;TZID=Asia/Muscat:20231111T210000
DTSTAMP:20260419T221253
CREATED:20230918T121512Z
LAST-MODIFIED:20231004T060948Z
UID:10000913-1699718400-1699736400@www.club.lavie.om
SUMMARY:FOOTGOLF
DESCRIPTION:Looking for a fun and affordable family activity? Look no further than LA VIE Club’s Footgolf. This event offers a great opportunity to bond with your loved ones while enjoying the beautiful surroundings of LA VIE Club. \nDates: Alternating Saturday of the Month\nTime: From 4:00 PM to closing\nPrice: OMR 2 per player (Playable for a maximum of 4 players) \nBOOK ONLINE \n\n		\n	\n	\n	\n	\n		foot_golf_video-mp4
URL:https://www.club.lavie.om/event/footgolf-2/2023-11-11/
LOCATION:LA VIE Club\, Airport Heights\, Muscat City\, Oman\, 111\, Oman
CATEGORIES:Events
ATTACH;FMTTYPE=image/jpeg:https://www.club.lavie.om/wp-content/uploads/sites/9071/2023/09/GolfPlex-Footgolf-header.jpg
END:VEVENT
BEGIN:VEVENT
DTSTART;TZID=Asia/Muscat:20231109T150000
DTEND;TZID=Asia/Muscat:20231109T210000
DTSTAMP:20260419T221253
CREATED:20231001T070736Z
LAST-MODIFIED:20231003T090552Z
UID:10000662-1699542000-1699563600@www.club.lavie.om
SUMMARY:NINE AND DINE SERIES
DESCRIPTION:Every Thursday for six weeks at LA VIE we will be holding a social fun golf event followed by a mouthwatering unlimited BBQ with live entertainment. Play each week as we count down to our order of merit final. \nDate: Every Thursday\, starting 5th October 2023\nTime: Tee Time is from 3:00 PM | BBQ and Live entertainment starts from 6:00 PM to 9:00 PM \nPrice:\nOMR 15 Access Holders\nOMR 25 OGA Members\nOMR 30 Oman Residents \nTerms and conditions apply. Reservation 48 hours in advance\nRates are exclusive of government taxes. \nFor enquiries\, please email enquiries@lavie.om or click the link below to register.
URL:https://www.club.lavie.om/event/nine-and-dine-series-2/2023-11-09/
LOCATION:LA VIE Club\, Airport Heights\, Muscat City\, Oman\, 111\, Oman
CATEGORIES:F&B Promotion,Golf Events
ATTACH;FMTTYPE=image/png:https://www.club.lavie.om/wp-content/uploads/sites/9071/2023/10/Nine-and-Dine-banner-1.png
END:VEVENT
BEGIN:VEVENT
DTSTART;TZID=Asia/Muscat:20231108T153000
DTEND;TZID=Asia/Muscat:20231108T180000
DTSTAMP:20260419T221253
CREATED:20231102T101752Z
LAST-MODIFIED:20231102T105934Z
UID:10000939-1699457400-1699466400@www.club.lavie.om
SUMMARY:LA VIE LADIES
DESCRIPTION:9 Holes from Copper Tees starts from 15:30\n\nDates: November 8\, 15\, 23 and 29\, 2023\nPrice: \nOMR 5 Access Holders\nOMR 15 Non-Access Holders\nInclusive of two beverages. \n*Terms and conditions apply. Rates are inclusive of government taxes. \nFor inquiries\, please email mohammed.alalawi@lavie.om or call +968 2214 0000. \n \nPlease enable JavaScript in your browser to complete this form.Name *FirstLastEmail *Phone *Message *SUBMIT
URL:https://www.club.lavie.om/event/la-vie-ladies-golf-event/2023-11-08/
LOCATION:LA VIE Club\, Airport Heights\, Muscat City\, Oman\, 111\, Oman
CATEGORIES:Golf Events
ATTACH;FMTTYPE=image/jpeg:https://www.club.lavie.om/wp-content/uploads/sites/9071/2023/11/la-vie-ladies-eblast.jpg
END:VEVENT
BEGIN:VEVENT
DTSTART;TZID=Asia/Muscat:20231104T160000
DTEND;TZID=Asia/Muscat:20231104T210000
DTSTAMP:20260419T221253
CREATED:20231003T123700Z
LAST-MODIFIED:20231004T061639Z
UID:10000918-1699113600-1699131600@www.club.lavie.om
SUMMARY:ACADEMY COURSE – PAR 3
DESCRIPTION:Spend your weekend at LA VIE Club Par 3 Course with family and friends! Round up your squad for up to 4 players and swing those clubs amidst stunning surroundings. For just OMR 2 per player\, you can enjoy a round of golf on our Par 3 Course. Affordable and exciting\, it’s the ultimate weekend activity for families and friends alike. Don’t miss out! \nDates: Alternating Saturday of the Month\nTime: 4:00 PM to 9:00 PM\nPrice: OMR 2 per player (Playable for a maximum of 4 players) \nBOOK ONLINE
URL:https://www.club.lavie.om/event/academy-course-par-3-2/2023-11-04/
LOCATION:LA VIE Club\, Airport Heights\, Muscat City\, Oman\, 111\, Oman
CATEGORIES:Events
ATTACH;FMTTYPE=image/jpeg:https://www.club.lavie.om/wp-content/uploads/sites/9071/2023/09/Academy-Course.jpg
END:VEVENT
BEGIN:VEVENT
DTSTART;TZID=Asia/Muscat:20231102T150000
DTEND;TZID=Asia/Muscat:20231102T210000
DTSTAMP:20260419T221253
CREATED:20231001T070736Z
LAST-MODIFIED:20231003T090552Z
UID:10000661-1698937200-1698958800@www.club.lavie.om
SUMMARY:NINE AND DINE SERIES
DESCRIPTION:Every Thursday for six weeks at LA VIE we will be holding a social fun golf event followed by a mouthwatering unlimited BBQ with live entertainment. Play each week as we count down to our order of merit final. \nDate: Every Thursday\, starting 5th October 2023\nTime: Tee Time is from 3:00 PM | BBQ and Live entertainment starts from 6:00 PM to 9:00 PM \nPrice:\nOMR 15 Access Holders\nOMR 25 OGA Members\nOMR 30 Oman Residents \nTerms and conditions apply. Reservation 48 hours in advance\nRates are exclusive of government taxes. \nFor enquiries\, please email enquiries@lavie.om or click the link below to register.
URL:https://www.club.lavie.om/event/nine-and-dine-series-2/2023-11-02/
LOCATION:LA VIE Club\, Airport Heights\, Muscat City\, Oman\, 111\, Oman
CATEGORIES:F&B Promotion,Golf Events
ATTACH;FMTTYPE=image/png:https://www.club.lavie.om/wp-content/uploads/sites/9071/2023/10/Nine-and-Dine-banner-1.png
END:VEVENT
BEGIN:VEVENT
DTSTART;TZID=Asia/Muscat:20231028T160000
DTEND;TZID=Asia/Muscat:20231028T210000
DTSTAMP:20260419T221253
CREATED:20231004T060856Z
LAST-MODIFIED:20231027T103320Z
UID:10000924-1698508800-1698526800@www.club.lavie.om
SUMMARY:GOURMET GOLF OMAN
DESCRIPTION:18 Holes of spectacular golf at LA VIE like you have never experienced before\, join us and our partner hotels for a fun and social Golf / Food & Beverage experience. \nDates: Saturday\, 28th October 2023 \nSchedule:\n08:00 – Arrival\n08:30 – Breakfast & Warm up\n09:30 – Briefing\n10:00 – Shotgun Start\n17:00 – BBQ & Prize Giving \nPrice:\nOMR 22 Access Holders\nOMR 37 Access Holders Guest and OGA Members \n*Terms and conditions apply. Rates are exclusive of government taxes. \nFor inquiries please email mohammed.alalawi@lavie.om or call +968 2214 0000.
URL:https://www.club.lavie.om/event/gourmet-golf-oman/
LOCATION:LA VIE Club\, Airport Heights\, Muscat City\, Oman\, 111\, Oman
CATEGORIES:F&B Promotion,Golf Events
ATTACH;FMTTYPE=image/jpeg:https://www.club.lavie.om/wp-content/uploads/sites/9071/2023/10/Gourmet-Golf-web-banner-and-email-campaign.jpg
END:VEVENT
BEGIN:VEVENT
DTSTART;TZID=Asia/Muscat:20231028T160000
DTEND;TZID=Asia/Muscat:20231028T210000
DTSTAMP:20260419T221253
CREATED:20230918T121512Z
LAST-MODIFIED:20231004T060948Z
UID:10000912-1698508800-1698526800@www.club.lavie.om
SUMMARY:FOOTGOLF
DESCRIPTION:Looking for a fun and affordable family activity? Look no further than LA VIE Club’s Footgolf. This event offers a great opportunity to bond with your loved ones while enjoying the beautiful surroundings of LA VIE Club. \nDates: Alternating Saturday of the Month\nTime: From 4:00 PM to closing\nPrice: OMR 2 per player (Playable for a maximum of 4 players) \nBOOK ONLINE \n\n		\n	\n	\n	\n	\n		foot_golf_video-mp4
URL:https://www.club.lavie.om/event/footgolf-2/2023-10-28/
LOCATION:LA VIE Club\, Airport Heights\, Muscat City\, Oman\, 111\, Oman
CATEGORIES:Events
ATTACH;FMTTYPE=image/jpeg:https://www.club.lavie.om/wp-content/uploads/sites/9071/2023/09/GolfPlex-Footgolf-header.jpg
END:VEVENT
BEGIN:VEVENT
DTSTART;TZID=Asia/Muscat:20231026T150000
DTEND;TZID=Asia/Muscat:20231026T210000
DTSTAMP:20260419T221253
CREATED:20231001T070736Z
LAST-MODIFIED:20231003T090552Z
UID:10000660-1698332400-1698354000@www.club.lavie.om
SUMMARY:NINE AND DINE SERIES
DESCRIPTION:Every Thursday for six weeks at LA VIE we will be holding a social fun golf event followed by a mouthwatering unlimited BBQ with live entertainment. Play each week as we count down to our order of merit final. \nDate: Every Thursday\, starting 5th October 2023\nTime: Tee Time is from 3:00 PM | BBQ and Live entertainment starts from 6:00 PM to 9:00 PM \nPrice:\nOMR 15 Access Holders\nOMR 25 OGA Members\nOMR 30 Oman Residents \nTerms and conditions apply. Reservation 48 hours in advance\nRates are exclusive of government taxes. \nFor enquiries\, please email enquiries@lavie.om or click the link below to register.
URL:https://www.club.lavie.om/event/nine-and-dine-series-2/2023-10-26/
LOCATION:LA VIE Club\, Airport Heights\, Muscat City\, Oman\, 111\, Oman
CATEGORIES:F&B Promotion,Golf Events
ATTACH;FMTTYPE=image/png:https://www.club.lavie.om/wp-content/uploads/sites/9071/2023/10/Nine-and-Dine-banner-1.png
END:VEVENT
BEGIN:VEVENT
DTSTART;TZID=Asia/Muscat:20231021T160000
DTEND;TZID=Asia/Muscat:20231021T210000
DTSTAMP:20260419T221253
CREATED:20231003T123700Z
LAST-MODIFIED:20231004T061639Z
UID:10000917-1697904000-1697922000@www.club.lavie.om
SUMMARY:ACADEMY COURSE – PAR 3
DESCRIPTION:Spend your weekend at LA VIE Club Par 3 Course with family and friends! Round up your squad for up to 4 players and swing those clubs amidst stunning surroundings. For just OMR 2 per player\, you can enjoy a round of golf on our Par 3 Course. Affordable and exciting\, it’s the ultimate weekend activity for families and friends alike. Don’t miss out! \nDates: Alternating Saturday of the Month\nTime: 4:00 PM to 9:00 PM\nPrice: OMR 2 per player (Playable for a maximum of 4 players) \nBOOK ONLINE
URL:https://www.club.lavie.om/event/academy-course-par-3-2/2023-10-21/
LOCATION:LA VIE Club\, Airport Heights\, Muscat City\, Oman\, 111\, Oman
CATEGORIES:Events
ATTACH;FMTTYPE=image/jpeg:https://www.club.lavie.om/wp-content/uploads/sites/9071/2023/09/Academy-Course.jpg
END:VEVENT
BEGIN:VEVENT
DTSTART;TZID=Asia/Muscat:20231019T150000
DTEND;TZID=Asia/Muscat:20231019T210000
DTSTAMP:20260419T221253
CREATED:20231001T070736Z
LAST-MODIFIED:20231003T090552Z
UID:10000659-1697727600-1697749200@www.club.lavie.om
SUMMARY:NINE AND DINE SERIES
DESCRIPTION:Every Thursday for six weeks at LA VIE we will be holding a social fun golf event followed by a mouthwatering unlimited BBQ with live entertainment. Play each week as we count down to our order of merit final. \nDate: Every Thursday\, starting 5th October 2023\nTime: Tee Time is from 3:00 PM | BBQ and Live entertainment starts from 6:00 PM to 9:00 PM \nPrice:\nOMR 15 Access Holders\nOMR 25 OGA Members\nOMR 30 Oman Residents \nTerms and conditions apply. Reservation 48 hours in advance\nRates are exclusive of government taxes. \nFor enquiries\, please email enquiries@lavie.om or click the link below to register.
URL:https://www.club.lavie.om/event/nine-and-dine-series-2/2023-10-19/
LOCATION:LA VIE Club\, Airport Heights\, Muscat City\, Oman\, 111\, Oman
CATEGORIES:F&B Promotion,Golf Events
ATTACH;FMTTYPE=image/png:https://www.club.lavie.om/wp-content/uploads/sites/9071/2023/10/Nine-and-Dine-banner-1.png
END:VEVENT
BEGIN:VEVENT
DTSTART;TZID=Asia/Muscat:20231014T160000
DTEND;TZID=Asia/Muscat:20231014T210000
DTSTAMP:20260419T221253
CREATED:20230918T121512Z
LAST-MODIFIED:20231004T060948Z
UID:10000911-1697299200-1697317200@www.club.lavie.om
SUMMARY:FOOTGOLF
DESCRIPTION:Looking for a fun and affordable family activity? Look no further than LA VIE Club’s Footgolf. This event offers a great opportunity to bond with your loved ones while enjoying the beautiful surroundings of LA VIE Club. \nDates: Alternating Saturday of the Month\nTime: From 4:00 PM to closing\nPrice: OMR 2 per player (Playable for a maximum of 4 players) \nBOOK ONLINE \n\n		\n	\n	\n	\n	\n		foot_golf_video-mp4
URL:https://www.club.lavie.om/event/footgolf-2/2023-10-14/
LOCATION:LA VIE Club\, Airport Heights\, Muscat City\, Oman\, 111\, Oman
CATEGORIES:Events
ATTACH;FMTTYPE=image/jpeg:https://www.club.lavie.om/wp-content/uploads/sites/9071/2023/09/GolfPlex-Footgolf-header.jpg
END:VEVENT
BEGIN:VEVENT
DTSTART;TZID=Asia/Muscat:20231012T150000
DTEND;TZID=Asia/Muscat:20231012T210000
DTSTAMP:20260419T221253
CREATED:20231001T070736Z
LAST-MODIFIED:20231003T090552Z
UID:10000658-1697122800-1697144400@www.club.lavie.om
SUMMARY:NINE AND DINE SERIES
DESCRIPTION:Every Thursday for six weeks at LA VIE we will be holding a social fun golf event followed by a mouthwatering unlimited BBQ with live entertainment. Play each week as we count down to our order of merit final. \nDate: Every Thursday\, starting 5th October 2023\nTime: Tee Time is from 3:00 PM | BBQ and Live entertainment starts from 6:00 PM to 9:00 PM \nPrice:\nOMR 15 Access Holders\nOMR 25 OGA Members\nOMR 30 Oman Residents \nTerms and conditions apply. Reservation 48 hours in advance\nRates are exclusive of government taxes. \nFor enquiries\, please email enquiries@lavie.om or click the link below to register.
URL:https://www.club.lavie.om/event/nine-and-dine-series-2/2023-10-12/
LOCATION:LA VIE Club\, Airport Heights\, Muscat City\, Oman\, 111\, Oman
CATEGORIES:F&B Promotion,Golf Events
ATTACH;FMTTYPE=image/png:https://www.club.lavie.om/wp-content/uploads/sites/9071/2023/10/Nine-and-Dine-banner-1.png
END:VEVENT
BEGIN:VEVENT
DTSTART;TZID=Asia/Muscat:20231007T160000
DTEND;TZID=Asia/Muscat:20231007T210000
DTSTAMP:20260419T221253
CREATED:20231003T123700Z
LAST-MODIFIED:20231004T061639Z
UID:10000005-1696694400-1696712400@www.club.lavie.om
SUMMARY:ACADEMY COURSE – PAR 3
DESCRIPTION:Spend your weekend at LA VIE Club Par 3 Course with family and friends! Round up your squad for up to 4 players and swing those clubs amidst stunning surroundings. For just OMR 2 per player\, you can enjoy a round of golf on our Par 3 Course. Affordable and exciting\, it’s the ultimate weekend activity for families and friends alike. Don’t miss out! \nDates: Alternating Saturday of the Month\nTime: 4:00 PM to 9:00 PM\nPrice: OMR 2 per player (Playable for a maximum of 4 players) \nBOOK ONLINE
URL:https://www.club.lavie.om/event/academy-course-par-3-2/2023-10-07/
LOCATION:LA VIE Club\, Airport Heights\, Muscat City\, Oman\, 111\, Oman
CATEGORIES:Events
ATTACH;FMTTYPE=image/jpeg:https://www.club.lavie.om/wp-content/uploads/sites/9071/2023/09/Academy-Course.jpg
END:VEVENT
BEGIN:VEVENT
DTSTART;TZID=Asia/Muscat:20231005T150000
DTEND;TZID=Asia/Muscat:20231005T210000
DTSTAMP:20260419T221253
CREATED:20231001T070736Z
LAST-MODIFIED:20231003T090552Z
UID:10000657-1696518000-1696539600@www.club.lavie.om
SUMMARY:NINE AND DINE SERIES
DESCRIPTION:Every Thursday for six weeks at LA VIE we will be holding a social fun golf event followed by a mouthwatering unlimited BBQ with live entertainment. Play each week as we count down to our order of merit final. \nDate: Every Thursday\, starting 5th October 2023\nTime: Tee Time is from 3:00 PM | BBQ and Live entertainment starts from 6:00 PM to 9:00 PM \nPrice:\nOMR 15 Access Holders\nOMR 25 OGA Members\nOMR 30 Oman Residents \nTerms and conditions apply. Reservation 48 hours in advance\nRates are exclusive of government taxes. \nFor enquiries\, please email enquiries@lavie.om or click the link below to register.
URL:https://www.club.lavie.om/event/nine-and-dine-series-2/2023-10-05/
LOCATION:LA VIE Club\, Airport Heights\, Muscat City\, Oman\, 111\, Oman
CATEGORIES:F&B Promotion,Golf Events
ATTACH;FMTTYPE=image/png:https://www.club.lavie.om/wp-content/uploads/sites/9071/2023/10/Nine-and-Dine-banner-1.png
END:VEVENT
BEGIN:VEVENT
DTSTART;TZID=Asia/Muscat:20230926T170000
DTEND;TZID=Asia/Muscat:20230926T203000
DTSTAMP:20260419T221253
CREATED:20230921T132222Z
LAST-MODIFIED:20230921T132320Z
UID:10000529-1695747600-1695760200@www.club.lavie.om
SUMMARY:LA VIE LONGEST DRIVE SERIES
DESCRIPTION:Come and Play Long Drive in LA VIE Longest Drive Series.\nDate: Tuesday\, 26th September 2023\nTime: 5:00 PM to 8:30 PM\nVenue: LA VIE Club Toptracer Range\nEntry Fee: OMR 5 \nCategories\n– Ladies Longest Drive\n– Longest Drive Seniors\n– Men Longest Drive \nTerms and conditions apply.\n– Participation in this event is exclusively for amateur golfers.\n– Participants are allowed for a thirty-minute warm-up session prior to the event.\n– Each player is limited to hitting three Drives. \nRegister for the event through the Toptracer Range App. \nFor inquiries\, email Mohammed Al Alawi at mohammed.alalawi@lavie.om
URL:https://www.club.lavie.om/event/la-vie-longest-drive-series/
LOCATION:LA VIE Club\, Airport Heights\, Muscat City\, Oman\, 111\, Oman
CATEGORIES:Golf Events
ATTACH;FMTTYPE=image/jpeg:https://www.club.lavie.om/wp-content/uploads/sites/9071/2023/09/toptracer-range-series.jpg
END:VEVENT
BEGIN:VEVENT
DTSTART;TZID=Asia/Muscat:20230926T170000
DTEND;TZID=Asia/Muscat:20230926T180000
DTSTAMP:20260419T221253
CREATED:20230908T085605Z
LAST-MODIFIED:20231004T062148Z
UID:10000268-1695747600-1695751200@www.club.lavie.om
SUMMARY:TWILIGHT RUNNING
DESCRIPTION:Are you looking for a fun and free way to get fit while enjoying the breathtaking scenery of a golf course? Look no further than LA VIE Club’s Twilight Running\, you can lace up your running shoes and hit the course for an invigorating workout with a view. \nDate: Every Tuesday\nTime: From 5:00 PM to 6:00 PM\nPrice: Entrance is complimentary \n 
URL:https://www.club.lavie.om/event/twilight-running/2023-09-26/
LOCATION:LA VIE Club\, Airport Heights\, Muscat City\, Oman\, 111\, Oman
CATEGORIES:Community Events
ATTACH;FMTTYPE=image/jpeg:https://www.club.lavie.om/wp-content/uploads/sites/9071/2023/09/twilight-running.jpg
END:VEVENT
BEGIN:VEVENT
DTSTART;TZID=Asia/Muscat:20230923T140000
DTEND;TZID=Asia/Muscat:20230923T230000
DTSTAMP:20260419T221253
CREATED:20230914T124030Z
LAST-MODIFIED:20230922T084121Z
UID:10000527-1695477600-1695510000@www.club.lavie.om
SUMMARY:Oktoberfest Stableford
DESCRIPTION:Join us for an unforgettable Oktoberfest Stableford at LA VIE Club\, where golf meets great times! Swing into the season with selected beverages\, sizzling BBQ\, and live music. \nFormat: Individual Stableford\nDate: Saturday\, 23rd September 2023\nShotgun Start: 2:00 PM\nTee: Silver Tee \nRates:\nOMR 22 for Access Holders\nOMR 35 for Non-Access Holders \n* Rates inclusive of selected beverages\, BBQ and Live music.\n* Must have an active GHIN to join. \nTerms and conditions apply. Rates are exclusive of government taxes. \nFor inquiries or reservations please email\, mohammed.alalawi@lavie.om or fill in the details below.
URL:https://www.club.lavie.om/event/oktoberfest-stableford/
LOCATION:LA VIE Club\, Airport Heights\, Muscat City\, Oman\, 111\, Oman
CATEGORIES:Golf Events
ATTACH;FMTTYPE=image/jpeg:https://www.club.lavie.om/wp-content/uploads/sites/9071/2023/09/OKTOBERFEST-LAVIE-CLUB-WEB-BANNER-1soldout.jpg
END:VEVENT
BEGIN:VEVENT
DTSTART;TZID=Asia/Muscat:20230919T170000
DTEND;TZID=Asia/Muscat:20230919T180000
DTSTAMP:20260419T221253
CREATED:20230908T085605Z
LAST-MODIFIED:20231004T062148Z
UID:10000267-1695142800-1695146400@www.club.lavie.om
SUMMARY:TWILIGHT RUNNING
DESCRIPTION:Are you looking for a fun and free way to get fit while enjoying the breathtaking scenery of a golf course? Look no further than LA VIE Club’s Twilight Running\, you can lace up your running shoes and hit the course for an invigorating workout with a view. \nDate: Every Tuesday\nTime: From 5:00 PM to 6:00 PM\nPrice: Entrance is complimentary \n 
URL:https://www.club.lavie.om/event/twilight-running/2023-09-19/
LOCATION:LA VIE Club\, Airport Heights\, Muscat City\, Oman\, 111\, Oman
CATEGORIES:Community Events
ATTACH;FMTTYPE=image/jpeg:https://www.club.lavie.om/wp-content/uploads/sites/9071/2023/09/twilight-running.jpg
END:VEVENT
BEGIN:VEVENT
DTSTART;TZID=Asia/Muscat:20230916T160000
DTEND;TZID=Asia/Muscat:20230916T210000
DTSTAMP:20260419T221253
CREATED:20230908T081928Z
LAST-MODIFIED:20230908T085709Z
UID:10000002-1694880000-1694898000@www.club.lavie.om
SUMMARY:FOOTGOLF
DESCRIPTION:Looking for a fun and affordable family activity? Look no further than LA VIE Club’s Footgolf. This event offers a great opportunity to bond with your loved ones while enjoying the beautiful surroundings of LA VIE Club. \nDates: September 16 & 30\, 2023\nTime: From 4:00 PM to closing\nPrice: OMR 2 per player (Playable for a maximum of 4 players) \nBOOK ONLINE
URL:https://www.club.lavie.om/event/footgolf/2023-09-16/
LOCATION:LA VIE Club\, Airport Heights\, Muscat City\, Oman\, 111\, Oman
CATEGORIES:Events
ATTACH;FMTTYPE=image/jpeg:https://www.club.lavie.om/wp-content/uploads/sites/9071/2023/09/GolfPlex-Footgolf-header.jpg
END:VEVENT
BEGIN:VEVENT
DTSTART;TZID=Asia/Muscat:20230912T170000
DTEND;TZID=Asia/Muscat:20230912T180000
DTSTAMP:20260419T221254
CREATED:20230908T085605Z
LAST-MODIFIED:20231004T062148Z
UID:10000266-1694538000-1694541600@www.club.lavie.om
SUMMARY:TWILIGHT RUNNING
DESCRIPTION:Are you looking for a fun and free way to get fit while enjoying the breathtaking scenery of a golf course? Look no further than LA VIE Club’s Twilight Running\, you can lace up your running shoes and hit the course for an invigorating workout with a view. \nDate: Every Tuesday\nTime: From 5:00 PM to 6:00 PM\nPrice: Entrance is complimentary \n 
URL:https://www.club.lavie.om/event/twilight-running/2023-09-12/
LOCATION:LA VIE Club\, Airport Heights\, Muscat City\, Oman\, 111\, Oman
CATEGORIES:Community Events
ATTACH;FMTTYPE=image/jpeg:https://www.club.lavie.om/wp-content/uploads/sites/9071/2023/09/twilight-running.jpg
END:VEVENT
BEGIN:VEVENT
DTSTART;TZID=Asia/Muscat:20230909T160000
DTEND;TZID=Asia/Muscat:20230909T210000
DTSTAMP:20260419T221254
CREATED:20230908T082754Z
LAST-MODIFIED:20230908T083133Z
UID:10000004-1694275200-1694293200@www.club.lavie.om
SUMMARY:ACADEMY COURSE – PAR 3
DESCRIPTION:Spend your weekend at LA VIE Club Par 3 Course with family and friends! Round up your squad for up to 4 players and swing those clubs amidst stunning surroundings. For just OMR 2 per player\, you can enjoy a round of golf on our Par 3 Course. Affordable and exciting\, it’s the ultimate weekend activity for families and friends alike. Don’t miss out! \nDates: September 9 & 23\, 2023\nTime: 4:00 PM to 9:00 PM\nPrice: OMR 2 per player (Playable for a maximum of 4 players) \nBOOK ONLINE
URL:https://www.club.lavie.om/event/academy-course-par-3/2023-09-09/
LOCATION:LA VIE Club\, Airport Heights\, Muscat City\, Oman\, 111\, Oman
CATEGORIES:Events
ATTACH;FMTTYPE=image/jpeg:https://www.club.lavie.om/wp-content/uploads/sites/9071/2023/09/Academy-Course.jpg
END:VEVENT
END:VCALENDAR